BEGIN:VCALENDAR
VERSION:2.0
PRODID:-//Park Plaza - ECPv6.15.20//NONSGML v1.0//EN
CALSCALE:GREGORIAN
METHOD:PUBLISH
X-WR-CALNAME:Park Plaza
X-ORIGINAL-URL:https://www.park-plaza.org
X-WR-CALDESC:Events for Park Plaza
REFRESH-INTERVAL;VALUE=DURATION:PT1H
X-Robots-Tag:noindex
X-PUBLISHED-TTL:PT1H
BEGIN:VTIMEZONE
TZID:America/Chicago
BEGIN:DAYLIGHT
TZOFFSETFROM:-0600
TZOFFSETTO:-0500
TZNAME:CDT
DTSTART:20250309T080000
END:DAYLIGHT
BEGIN:STANDARD
TZOFFSETFROM:-0500
TZOFFSETTO:-0600
TZNAME:CST
DTSTART:20251102T070000
END:STANDARD
BEGIN:DAYLIGHT
TZOFFSETFROM:-0600
TZOFFSETTO:-0500
TZNAME:CDT
DTSTART:20260308T080000
END:DAYLIGHT
BEGIN:STANDARD
TZOFFSETFROM:-0500
TZOFFSETTO:-0600
TZNAME:CST
DTSTART:20261101T070000
END:STANDARD
BEGIN:DAYLIGHT
TZOFFSETFROM:-0600
TZOFFSETTO:-0500
TZNAME:CDT
DTSTART:20270314T080000
END:DAYLIGHT
BEGIN:STANDARD
TZOFFSETFROM:-0500
TZOFFSETTO:-0600
TZNAME:CST
DTSTART:20271107T070000
END:STANDARD
END:VTIMEZONE
BEGIN:VEVENT
DTSTART;TZID=America/Chicago:20260401T185600
DTEND;TZID=America/Chicago:20260409T200800
DTSTAMP:20260423T073156
CREATED:20260407T151845Z
LAST-MODIFIED:20260407T151845Z
UID:5802-1775069760-1775765280@www.park-plaza.org
SUMMARY:Pesach
DESCRIPTION:
URL:https://www.park-plaza.org/event/pesach/
CATEGORIES:Holiday,Judaism
END:VEVENT
BEGIN:VEVENT
DTSTART;TZID=America/Chicago:20260402T160000
DTEND;TZID=America/Chicago:20260402T170000
DTSTAMP:20260423T073156
CREATED:20260407T141006Z
LAST-MODIFIED:20260407T141006Z
UID:5791-1775145600-1775149200@www.park-plaza.org
SUMMARY:Pesach Guest Lecture: Rabbi Aharon Cardash
DESCRIPTION:
URL:https://www.park-plaza.org/event/pesach-guest-lecture-rabbi-aharon-cardash/
CATEGORIES:Holiday,Judaism,Speaker
END:VEVENT
BEGIN:VEVENT
DTSTART;TZID=America/Chicago:20260402T163000
DTEND;TZID=America/Chicago:20260402T233000
DTSTAMP:20260423T073156
CREATED:20260407T142926Z
LAST-MODIFIED:20260407T142926Z
UID:5792-1775147400-1775172600@www.park-plaza.org
SUMMARY:Pesach Seder:  See Pesach Booklet for details 
DESCRIPTION:
URL:https://www.park-plaza.org/event/pesach-seder-see-pesach-booklet-for-details-2/
CATEGORIES:Holiday,Judaism
END:VEVENT
BEGIN:VEVENT
DTSTART;TZID=America/Chicago:20260402T201400
DTEND;TZID=America/Chicago:20260402T203400
DTSTAMP:20260423T073156
CREATED:20260407T151441Z
LAST-MODIFIED:20260407T151441Z
UID:5799-1775160840-1775162040@www.park-plaza.org
SUMMARY:Candle Lighting
DESCRIPTION:
URL:https://www.park-plaza.org/event/candle-lighting-99/
CATEGORIES:Holiday,Judaism
END:VEVENT
END:VCALENDAR